BEGIN:VCALENDAR
VERSION:2.0
PRODID:-//CEAM - ECPv4.6.22//NONSGML v1.0//EN
CALSCALE:GREGORIAN
METHOD:PUBLISH
X-WR-CALNAME:CEAM
X-ORIGINAL-URL:https://www.ceam.org.uy
X-WR-CALDESC:Eventos para CEAM
BEGIN:VEVENT
DTSTART;TZID=UTC-3:20200628T110000
DTEND;TZID=UTC-3:20200628T113000
DTSTAMP:20260424T095506
CREATED:20201007T193228Z
LAST-MODIFIED:20201007T205544Z
UID:4567-1593342000-1593343800@www.ceam.org.uy
SUMMARY:CONCIERTO VIRTUAL :: domingo 28 de junio a las 11 h
DESCRIPTION: \nSi bien las actividades de las iglesias han sido permitidas\, la Congregación decidió seguir sin las mismas hasta nuevo aviso.\n\n\n\n\nLa mística del lugar y lo que para cada uno pueda significar estar en vivo en un concierto no es posible reproducirlo\, pero lo virtual nos permite compartir un momento especial a través de nuestros soportes electrónicos.\n\nOtra vez les enviamos una invitación virtual para nuestro segundo «concierto en tiempos de pandemia».\n\nQueremos hacerle más agradable la vida en estos tiempos de encierro voluntario y compartir el arte de nuestro maestro Ezequiel Larré y la múscia del compositor luterano Johann Sebastian Bach que tantas cantatas\, piezas de música y su estética nos ha legado luego de ejecutarlas en pequeñas parroquias como en grandes iglesias de Alemania.\n\nEl pequeño mensaje como siempre lo realizará el Pastor Dr. Jerónimo Granados.\n\n\n\n\nCompartirHaz clic para compartir en Facebook (Se abre en una ventana nueva)Haz clic para compartir en WhatsApp (Se abre en una ventana nueva)\n\n	\n
URL:https://www.ceam.org.uy/evento/concierto-virtual-domingo-28-de-junio-a-las-11-h/
CATEGORIES:Conciertos/Conferencias,Cultos
END:VEVENT
END:VCALENDAR