BEGIN:VCALENDAR
VERSION:2.0
PRODID:-//CEAM - ECPv4.6.22//NONSGML v1.0//EN
CALSCALE:GREGORIAN
METHOD:PUBLISH
X-WR-CALNAME:CEAM
X-ORIGINAL-URL:https://www.ceam.org.uy
X-WR-CALDESC:Eventos para CEAM
BEGIN:VEVENT
DTSTART;TZID=UTC-3:20211130T200000
DTEND;TZID=UTC-3:20211130T210000
DTSTAMP:20260425T194534
CREATED:20211205T120139Z
LAST-MODIFIED:20211205T120439Z
UID:5639-1638302400-1638306000@www.ceam.org.uy
SUMMARY:Concierto - Gala lírica 30.11.
DESCRIPTION: \nCompartirHaz clic para compartir en Facebook (Se abre en una ventana nueva)Haz clic para compartir en WhatsApp (Se abre en una ventana nueva)\n\n	\n
URL:https://www.ceam.org.uy/evento/concierto-gala-lirica-30-11/
CATEGORIES:Conciertos/Conferencias
END:VEVENT
END:VCALENDAR