BEGIN:VCALENDAR
VERSION:2.0
PRODID:-//CEAM - ECPv4.6.22//NONSGML v1.0//EN
CALSCALE:GREGORIAN
METHOD:PUBLISH
X-WR-CALNAME:CEAM
X-ORIGINAL-URL:https://www.ceam.org.uy
X-WR-CALDESC:Eventos para CEAM
BEGIN:VEVENT
DTSTART;TZID=UTC-3:20250830T170000
DTEND;TZID=UTC-3:20250830T183000
DTSTAMP:20260421T112242
CREATED:20250827T174536Z
LAST-MODIFIED:20250903T162959Z
UID:10354-1756573200-1756578600@www.ceam.org.uy
SUMMARY:CONCIERTO EN LA CEAM - TRIO PICCORGAN. 2 TROMPETAS Y ÓRGANO
DESCRIPTION:XXXIX Festival Internacional de Órgano del Uruguay \nCONCIERTO SÁBADO 30 DE AGOSTO 17 H \n \n \n2025.08.30 Programa Concierto trompetas órgano \n \n \n \nCompartirHaz clic para compartir en Facebook (Se abre en una ventana nueva)Haz clic para compartir en WhatsApp (Se abre en una ventana nueva)\n\n	\n
URL:https://www.ceam.org.uy/evento/concierto-en-la-ceam-trio-piccorgan-2-trompetas-y-organo/
CATEGORIES:Conciertos/Conferencias
END:VEVENT
END:VCALENDAR