BEGIN:VCALENDAR
VERSION:2.0
PRODID:-//CEAM - ECPv4.6.22//NONSGML v1.0//EN
CALSCALE:GREGORIAN
METHOD:PUBLISH
X-WR-CALNAME:CEAM
X-ORIGINAL-URL:https://www.ceam.org.uy
X-WR-CALDESC:Eventos para CEAM
BEGIN:VEVENT
DTSTART;TZID=UTC-3:20231028T170000
DTEND;TZID=UTC-3:20231028T183000
DTSTAMP:20260424T011224
CREATED:20231020T175317Z
LAST-MODIFIED:20231020T175317Z
UID:7356-1698512400-1698517800@www.ceam.org.uy
SUMMARY:CONCIERTO EN LA CEAM - SABADO 28.10.
DESCRIPTION: \nSábado 28 de Octubre 2023\, 17 h\nPatricia Curzio (Soprano)\npresenta a Richard Wagner: LA CRISÁLIDA\nValor colaboración entrada 300 $ \nCompartirHaz clic para compartir en Facebook (Se abre en una ventana nueva)Haz clic para compartir en WhatsApp (Se abre en una ventana nueva)\n\n	\n
URL:https://www.ceam.org.uy/evento/concierto-en-la-ceam-sabado-28-10/
CATEGORIES:Conciertos/Conferencias
END:VEVENT
END:VCALENDAR