BEGIN:VCALENDAR
VERSION:2.0
PRODID:-//CEAM - ECPv4.6.22//NONSGML v1.0//EN
CALSCALE:GREGORIAN
METHOD:PUBLISH
X-WR-CALNAME:CEAM
X-ORIGINAL-URL:https://www.ceam.org.uy
X-WR-CALDESC:Eventos para CEAM
BEGIN:VEVENT
DTSTART;TZID=UTC-3:20241110T170000
DTEND;TZID=UTC-3:20241110T180000
DTSTAMP:20260421T110558
CREATED:20241031T131915Z
LAST-MODIFIED:20241108T161244Z
UID:9361-1731258000-1731261600@www.ceam.org.uy
SUMMARY:CONCIERTO EN LA CEAM - EN TORNO A BACH
DESCRIPTION:DOMINGO 10 de noviembre 17 h.\n“En torno a Bach”\nJavier Toledo: Fortepiano. “En torno a Bach: obras de Johann Christian Bach y Carl Philipp Emanuel Bach” \n \nCompartirHaz clic para compartir en Facebook (Se abre en una ventana nueva)Haz clic para compartir en WhatsApp (Se abre en una ventana nueva)\n\n	\n
URL:https://www.ceam.org.uy/evento/concierto-en-la-ceam-en-torno-a-bach/
CATEGORIES:Conciertos/Conferencias
END:VEVENT
END:VCALENDAR