BEGIN:VCALENDAR
VERSION:2.0
PRODID:-//CEAM - ECPv4.6.22//NONSGML v1.0//EN
CALSCALE:GREGORIAN
METHOD:PUBLISH
X-WR-CALNAME:CEAM
X-ORIGINAL-URL:https://www.ceam.org.uy
X-WR-CALDESC:Eventos para CEAM
BEGIN:VEVENT
DTSTART;TZID=UTC-3:20231029T170000
DTEND;TZID=UTC-3:20231029T183000
DTSTAMP:20260424T011225
CREATED:20231020T175442Z
LAST-MODIFIED:20231020T175442Z
UID:7359-1698598800-1698604200@www.ceam.org.uy
SUMMARY:CONCIERTO EN LA CEAM - DOMINGO 29.10.
DESCRIPTION: \nDomingo 29 de Octubre 2023\, 17 h \n Festival Nacional de Órgano  eInstrumentos de Tecla\n  “J. S. BACH: 300 AÑOS EN LA CIUDAD DELEIPZIG”\nDirectora artística Maestra Cristina García Banegas\nMtra. Nives Dearmas (Clavecin)\nMtra.Margarita González (Flauto traverso) \nPastor Dr. Jerónimo Granados (Reflexión)\nCONGREGACIÓNEVANGÉLICA ALEMANA DE MONTEVIDEOJ.M. BLANES 1116 ESQ. DURAZNODECLARADODE INTERÉS MINISTERIAL POR EL MINISTERIO DE EDUCACIÓN Y CULTURA      Colaboraciónentrada: $350    \nCompartirHaz clic para compartir en Facebook (Se abre en una ventana nueva)Haz clic para compartir en WhatsApp (Se abre en una ventana nueva)\n\n	\n
URL:https://www.ceam.org.uy/evento/concierto-en-la-ceam-domingo-29-10/
CATEGORIES:Conciertos/Conferencias
END:VEVENT
END:VCALENDAR