BEGIN:VCALENDAR
VERSION:2.0
PRODID:-//CEAM - ECPv4.6.22//NONSGML v1.0//EN
CALSCALE:GREGORIAN
METHOD:PUBLISH
X-WR-CALNAME:CEAM
X-ORIGINAL-URL:https://www.ceam.org.uy
X-WR-CALDESC:Eventos para CEAM
BEGIN:VEVENT
DTSTART;TZID=UTC-3:20240908T170000
DTEND;TZID=UTC-3:20240908T180000
DTSTAMP:20260422T014306
CREATED:20240822T160259Z
LAST-MODIFIED:20240911T225353Z
UID:8930-1725814800-1725818400@www.ceam.org.uy
SUMMARY:CONCIERTO EN LA CEAM - DOMINGO 08.09.2024
DESCRIPTION:CONCIERTOS POR LOS 500 AÑOS DEL GESANGBUCH – HIMNARIO LUTERANO \n2 º FESTIVAL NACIONAL DE ÓRGANO E INSTRUMENTOS DE TECLA\nDOMINGO 8 DE SEPTIEMBRE – Hora 17 \nCONGREGACIÓN EVANGÉLICA ALEMANA \nConmemoración de los 500 años del Gesangbuch de Martin Lutero \nLUIS FELIPE – ÓRGANO – PIANO \n \n \n \nCompartirHaz clic para compartir en Facebook (Se abre en una ventana nueva)Haz clic para compartir en WhatsApp (Se abre en una ventana nueva)\n\n	\n
URL:https://www.ceam.org.uy/evento/concierto-en-la-ceam-domingo-08-09-2024/
CATEGORIES:Conciertos/Conferencias
END:VEVENT
END:VCALENDAR