BEGIN:VCALENDAR
VERSION:2.0
PRODID:-//CEAM - ECPv4.6.22//NONSGML v1.0//EN
CALSCALE:GREGORIAN
METHOD:PUBLISH
X-WR-CALNAME:CEAM
X-ORIGINAL-URL:https://www.ceam.org.uy
X-WR-CALDESC:Eventos para CEAM
BEGIN:VEVENT
DTSTART;TZID=UTC-3:20241103T170000
DTEND;TZID=UTC-3:20241103T183000
DTSTAMP:20260421T105154
CREATED:20241022T143831Z
LAST-MODIFIED:20241031T131705Z
UID:9310-1730653200-1730658600@www.ceam.org.uy
SUMMARY:CONCIERTO EN LA CEAM
DESCRIPTION:2º FESTIVAL DE ÓRGANO E INSTRUMENTOS DE TECLA\nCONCIERTO DE CUERDAS Y CLAVE\nSOLISTAS\nDOMINGO 03.11.2024  – 17 h\nMONTEVIDEO\nINSPIRACIÓN BARROCA \nObras de B. Strozzi\, G. Frescobaldi\,\nF.M. Veracini\, D. Scarlatti & A. Vivaldi\nUn recorrido inspirador desde el pecado hacia la búsqueda de la redención \nEnsemble\nSoprano\nMaría José Badano \nViolines barrocos \nBeruzhka Paredes\nJoaquín Fernández \nClave\nLeonardo Valiante \nCongregación Evangélica Alemana\nJuan M. Blanes 1116\, Montevideo\, Uruguay \nEntradas en venta*: en la iglesia \nGenerales $ 350 – Jubilados $ 250\,00\nEstudiantes $ 200\n*solo contado \n \n \n \n \n \n \n \n \nCompartirHaz clic para compartir en Facebook (Se abre en una ventana nueva)Haz clic para compartir en WhatsApp (Se abre en una ventana nueva)\n\n	\n
URL:https://www.ceam.org.uy/evento/concierto-en-la-ceam-6/
CATEGORIES:Conciertos/Conferencias
END:VEVENT
END:VCALENDAR