BEGIN:VCALENDAR
VERSION:2.0
PRODID:-//CEAM - ECPv4.6.22//NONSGML v1.0//EN
CALSCALE:GREGORIAN
METHOD:PUBLISH
X-WR-CALNAME:CEAM
X-ORIGINAL-URL:https://www.ceam.org.uy
X-WR-CALDESC:Eventos para CEAM
BEGIN:VEVENT
DTSTART;TZID=UTC-3:20231216T170000
DTEND;TZID=UTC-3:20231216T180000
DTSTAMP:20260423T101518
CREATED:20231208T165757Z
LAST-MODIFIED:20231208T165757Z
UID:7566-1702746000-1702749600@www.ceam.org.uy
SUMMARY:CONCIERTO EN LA CEAM
DESCRIPTION: \nCONCIERTO EN TIEMPOS DE ADVIENTO\n Sábado 16 DE DICIEMBRE\nHORA   17:00   \n Soprano Patricia Curzio \n Piano  Maestro Prof. Ezequiel Larré \nWagner Apasionado \nPastor Dr. Jerónimo Granados (Reflexión) \nColaboración entrada: $250 \nCompartirHaz clic para compartir en Facebook (Se abre en una ventana nueva)Haz clic para compartir en WhatsApp (Se abre en una ventana nueva)\n\n	\n
URL:https://www.ceam.org.uy/evento/concierto-en-la-ceam-3/
CATEGORIES:Conciertos/Conferencias
END:VEVENT
END:VCALENDAR