BEGIN:VCALENDAR
VERSION:2.0
PRODID:-//CEAM - ECPv4.6.22//NONSGML v1.0//EN
CALSCALE:GREGORIAN
METHOD:PUBLISH
X-WR-CALNAME:CEAM
X-ORIGINAL-URL:https://www.ceam.org.uy
X-WR-CALDESC:Eventos para CEAM
BEGIN:VEVENT
DTSTART;TZID=UTC-3:20220123T193000
DTEND;TZID=UTC-3:20220123T210000
DTSTAMP:20260426T014334
CREATED:20220314T171258Z
LAST-MODIFIED:20220314T171258Z
UID:5780-1642966200-1642971600@www.ceam.org.uy
SUMMARY:CONCIERTO DE VERANO - Saxofón
DESCRIPTION: \nCompartirHaz clic para compartir en Facebook (Se abre en una ventana nueva)Haz clic para compartir en WhatsApp (Se abre en una ventana nueva)\n\n	\n
URL:https://www.ceam.org.uy/evento/concierto-de-verano-saxofon/
CATEGORIES:Conciertos/Conferencias
END:VEVENT
END:VCALENDAR