BEGIN:VCALENDAR
VERSION:2.0
PRODID:-//CEAM - ECPv4.6.22//NONSGML v1.0//EN
CALSCALE:GREGORIAN
METHOD:PUBLISH
X-WR-CALNAME:CEAM
X-ORIGINAL-URL:https://www.ceam.org.uy
X-WR-CALDESC:Eventos para CEAM
BEGIN:VEVENT
DTSTART;TZID=UTC-3:20240106T190000
DTEND;TZID=UTC-3:20240106T200000
DTSTAMP:20260423T065924
CREATED:20231230T214039Z
LAST-MODIFIED:20231230T214039Z
UID:7620-1704567600-1704571200@www.ceam.org.uy
SUMMARY:CONCIERTO DE REYES EN LA CEAM
DESCRIPTION: \n \nCompartirHaz clic para compartir en Facebook (Se abre en una ventana nueva)Haz clic para compartir en WhatsApp (Se abre en una ventana nueva)\n\n	\n
URL:https://www.ceam.org.uy/evento/concierto-de-reyes-en-la-ceam-3/
CATEGORIES:Conciertos/Conferencias
END:VEVENT
END:VCALENDAR