BEGIN:VCALENDAR
VERSION:2.0
PRODID:-//CEAM - ECPv4.6.22//NONSGML v1.0//EN
CALSCALE:GREGORIAN
METHOD:PUBLISH
X-WR-CALNAME:CEAM
X-ORIGINAL-URL:https://www.ceam.org.uy
X-WR-CALDESC:Eventos para CEAM
BEGIN:VEVENT
DTSTART;TZID=UTC-3:20240521T193000
DTEND;TZID=UTC-3:20240521T213000
DTSTAMP:20260422T163314
CREATED:20240510T151219Z
LAST-MODIFIED:20240510T151327Z
UID:8138-1716319800-1716327000@www.ceam.org.uy
SUMMARY:CONCIERTO DE PIANO EN LA EMBAJADA DE ALEMANIA
DESCRIPTION: \nCompartirHaz clic para compartir en Facebook (Se abre en una ventana nueva)Haz clic para compartir en WhatsApp (Se abre en una ventana nueva)\n\n	\n
URL:https://www.ceam.org.uy/evento/concierto-de-piano-en-la-embajada-de-alemania/
CATEGORIES:Conciertos/Conferencias
END:VEVENT
END:VCALENDAR