BEGIN:VCALENDAR
VERSION:2.0
PRODID:-//CEAM - ECPv4.6.22//NONSGML v1.0//EN
CALSCALE:GREGORIAN
METHOD:PUBLISH
X-WR-CALNAME:CEAM
X-ORIGINAL-URL:https://www.ceam.org.uy
X-WR-CALDESC:Eventos para CEAM
BEGIN:VEVENT
DTSTART;TZID=UTC-3:20260517T170000
DTEND;TZID=UTC-3:20260517T180000
DTSTAMP:20260424T221429
CREATED:20260424T164944Z
LAST-MODIFIED:20260424T164944Z
UID:10746-1779037200-1779040800@www.ceam.org.uy
SUMMARY:CONCIERTO DE ORGANO Y PIANO en la CEAM
DESCRIPTION:Domingo 17 de Mayo – 17.00 h Concierto Cristina García Banegas\, Órgano; Juan José Zeballos\, Piano \n \nCompartirHaz clic para compartir en Facebook (Se abre en una ventana nueva)Haz clic para compartir en WhatsApp (Se abre en una ventana nueva)\n\n	\n
URL:https://www.ceam.org.uy/evento/concierto-de-organo-y-piano-en-la-ceam/
CATEGORIES:Conciertos/Conferencias
END:VEVENT
END:VCALENDAR