BEGIN:VCALENDAR
VERSION:2.0
PRODID:-//CEAM - ECPv4.6.22//NONSGML v1.0//EN
CALSCALE:GREGORIAN
METHOD:PUBLISH
X-WR-CALNAME:CEAM
X-ORIGINAL-URL:https://www.ceam.org.uy
X-WR-CALDESC:Eventos para CEAM
BEGIN:VEVENT
DTSTART;TZID=UTC-3:20221106T170000
DTEND;TZID=UTC-3:20221106T190000
DTSTAMP:20260425T125628
CREATED:20221029T134847Z
LAST-MODIFIED:20221029T134847Z
UID:6141-1667754000-1667761200@www.ceam.org.uy
SUMMARY:CONCIERTO DE ÓRGANO EN LA CEAM
DESCRIPTION:\nXXXVI Festival Internacional de Órgano del Uruguay\n “HAENDEL VISITA A BACH”\nMtra. Cristina García Banegas\, Órgano           \nDomingo 6 de noviembre – Hora 17                \nCONCIERTO EN EL MARCO DE LA REFORMA LUTERANA\nReflexión Pastor Dr. Jerónimo Granados \nEstá finalizando octubre y tendremos un mes de noviembre con varios conciertos.\nInauguramos el mes de noviembre  con la magnífica maestra Cristina García Banegas en un concierto de órgano.\nEsta vez será protagonista la música de Bach inspirada en la teología y también en parte en la Música de Lutero y recibirán de visita al alemán residente en Inglaterra de Haendel. Dos estilos claramente distinguibles y una teología única detrás de las composiciones . \niglesia de la calle J. M. Blanes. 1116.  \nTambién será motivo de recordar\nla Reforma Luterana en su aniversario 505. \nLos mantendremos informados de las próxima fechas de conciertos . \nLos esperamos! \nCompartirHaz clic para compartir en Facebook (Se abre en una ventana nueva)Haz clic para compartir en WhatsApp (Se abre en una ventana nueva)\n\n	\n
URL:https://www.ceam.org.uy/evento/concierto-de-organo-en-la-ceam-4/
CATEGORIES:Conciertos/Conferencias
END:VEVENT
END:VCALENDAR