BEGIN:VCALENDAR
VERSION:2.0
PRODID:-//CEAM - ECPv4.6.22//NONSGML v1.0//EN
CALSCALE:GREGORIAN
METHOD:PUBLISH
X-WR-CALNAME:CEAM
X-ORIGINAL-URL:https://www.ceam.org.uy
X-WR-CALDESC:Eventos para CEAM
BEGIN:VEVENT
DTSTART;TZID=UTC-3:20230423T170000
DTEND;TZID=UTC-3:20230423T183000
DTSTAMP:20260424T161014
CREATED:20230416T230407Z
LAST-MODIFIED:20230418T154005Z
UID:6662-1682269200-1682274600@www.ceam.org.uy
SUMMARY:CONCIERTO DE ORGANO - ​XXXVII FESTIVAL INTERNACIONAL DE ÓRGANO DEL URUGUAY
DESCRIPTION:Domingo  23 de Abril\, 17 h Concierto de órgano – Maestra Cristina García Banegas con obras de J. S. Bach.  \nConmemoración de los 300 años del contrato entre la Alcaldía de la ciudad de Leipzig y J.S.Bach para ocupar el cargo de “KANTOR” de la iglesia de Santo Tomás de dicha ciudad. Bach firma ese contrato el 19 de abril de 1723 y el acta de declaración oficial de ese cargo –por unanimidad- ya ratificado\, tres días después\, el 22 de abril.  Ver en el adjunto el programa.\nReflexión Pastor Granados \nJuan Manuel Blanes 1116 esquina Durazno\, Montevideo\nBONO colaboración 350\,- pesos. \n \n\n​http://www.festivaldeorgano.org \nCompartirHaz clic para compartir en Facebook (Se abre en una ventana nueva)Haz clic para compartir en WhatsApp (Se abre en una ventana nueva)\n\n	\n
URL:https://www.ceam.org.uy/evento/concierto-de-organo-5/
CATEGORIES:Conciertos/Conferencias
END:VEVENT
END:VCALENDAR