BEGIN:VCALENDAR
VERSION:2.0
PRODID:-//CEAM - ECPv4.6.22//NONSGML v1.0//EN
CALSCALE:GREGORIAN
METHOD:PUBLISH
X-WR-CALNAME:CEAM
X-ORIGINAL-URL:https://www.ceam.org.uy
X-WR-CALDESC:Eventos para CEAM
BEGIN:VEVENT
DTSTART;TZID=UTC-3:20230528T170000
DTEND;TZID=UTC-3:20230528T183000
DTSTAMP:20260424T143519
CREATED:20230416T231632Z
LAST-MODIFIED:20230526T171125Z
UID:6667-1685293200-1685298600@www.ceam.org.uy
SUMMARY:CONCIERTO DE ORGANO - ​​XXXVII FESTIVAL INTERNACIONAL DE ÓRGANO DEL URUGUAY
DESCRIPTION:Domingo 28 de mayo\, 17.00 h\nKapellenkonzerte – Conciertos de Capilla\nConcierto de órgano y filmación\ncon la Maestra Cristina García Banegas\, en honor al primer culto en el que J. S. Bach comienza su tarea como gran músico en la iglesia Santo Tomás de Leipzig estrenando la Cantata N° 75. Con los solistas del SODRE\, Abigail González – Mezzo Soprano y  Marcelo Otegui – Bajo\nReflexión del Pastor Dr. Jerónimo Granados \nIglesia Evangélica Alemana de Montevideo\nJuan Manuel Blanes esquina Durazno \nhttp://www.festivaldeorgano.org \n\n \nBACH: “300 años en Leipzig” Homenaje a la celebración del Primer Culto de Bach en la iglesia de Santo Tomás de Leipzig Primera Cantata: *“Die Ellenden sollen essen” – BWV 75* – presentada el primer domingo después de la Trinidad: 30 de mayo de 1723. * “Los pobres comerán hasta saciarse\, y los que buscan al Señor lo alabarán. Vuestro corazón vivirá para siempre”\nDOMINGO 28 DE MAYO – Hora 17 – CONGREGACIÓN EVANGÉLICA ALEMANA\nReflexión: del Pastor Dr. Jerónimo Granados\nArtistas: Abigail González (Mezzo-soprano) – Marcelo Otegui (Bajo) – Mtra. Cristina García Banegas (Órgano) – Cuidado del instrumento: Jaime Camps.\nPROGRAMA\nÓrgano: Toccata en re menor (BWV 565) Cantata BWV 75 (Poeta desconocido): Recitativo (Contralto) “Nur Eines kränk ein christliches Gemüthe”: “Solo una cosa aflige la conciencia de un cristiano: pensar en la pobreza de su espíritu. Cree ciertamente en la bondad de Dios\, que renueva todas las cosas\, pero le falta fuerza para crecer y dar fruto para la vida ultraterrena” Aria (Contralto): “Jesus macht mich geistlich reich. Kann ich seinen Geist empfangen\, will ich weiter nichts verlangen; denn mein Leben wächst zugleich”. Jesus macht mich geistlich Reich”. “Jesús me hace rico espiritualmente.» Si puedo recibir su Espíritu\, no anhelo más\, pues con Él mi vida crecerá. Jesús me hace rico espiritualmente” Recitativo (Bajo): “Wer nur in Jesu bleibt\, die Selbstverleugnung treibt\, dass er in Gottes Liebe sich gläubig übe\, hat\, wenn das Irdische verschwunden\, sich selbst und\nGott gefunden”. “Solo quien permanece en Jesús alcanza la auto renunciación para practicar con fe el amor de Dios\, y cuando lo terrenal desaparezca\, se encontrará a sí mismo y a Dios” Órgano: “Was Gott tut\, das ist wohlgetan” (Transcripción de Cantata BWV 75\, por Arno Rog) Aria (Bajo): “Mein Herze glaubt und liebt”. “Mi corazón cree y ama. Las dulces llamas de Jesús\, de las que las mías brotan\, me envuelven\, pues Él se entrega a mí” Órgano: “Schafe können sicher weiden\, wo ein guter Hirte wacht”. “Las ovejas pastan tranquilas donde un buen pastor vigila”. (Transcripción del Aria para contralto de la cantata BWV 208 por André Isoir) Canto sagrado: “Mein Jesu\, was für Seelenweh” (Jesús mío\, qué de dolores sufriste en Getsemaní)\, Libro de Cantos de Schemelli\, BWV 487 Aria (Bajo): “Der alte Drache brennt vor Neid” (“El antiguo Dragón (Satanás) arde de envidia”) BWV 130 Órgano: Transcripción del Preludio de la Sonata BWV 1001 para violín\, por André Isoir Lied (Alto): “Bist du bei mir” («Si estás conmigo») de Gottfried Heinrich Stölzel\, Aria de la ópera perdida “Diomedes” que se representó por primera vez el 16 de noviembre de 1718. (Libro de Cantos de Schemelli) Órgano: Coral “Ach\, was ist doch unser Leben” (“Ah\, qué es entonces nuestra Vida”) BWV 743 Aria (Bajo): “Endlich\, wird mein Joch” (“Un día\, llegará mi tormento\, de nuevo apartado de mí”) BWV 56 Órgano: Coral “Herr Jesu Christ\, dich zu uns wend” (“Señor Jesucristo\, vuélvete hacia nosotros”) BWV 749 Aria (Alto): “Erbarme dich» («Ten piedad de nosotros») (Pasión según San Mateo) BWV 244 Aria (Bajo): “Mache ich\, mein Herze rein” («Purifícate corazón mío”) (Pasión según San Mateo) BWV 244 Órgano: Fuga en re menor (BWV 565) \nCompartirHaz clic para compartir en Facebook (Se abre en una ventana nueva)Haz clic para compartir en WhatsApp (Se abre en una ventana nueva)\n\n	\n
URL:https://www.ceam.org.uy/evento/concierto-de-organo-%e2%80%8b%e2%80%8bxxxvii-festival-internacional-de-organo-del-uruguay/
CATEGORIES:Conciertos/Conferencias
END:VEVENT
END:VCALENDAR