BEGIN:VCALENDAR
VERSION:2.0
PRODID:-//CEAM - ECPv4.6.22//NONSGML v1.0//EN
CALSCALE:GREGORIAN
METHOD:PUBLISH
X-WR-CALNAME:CEAM
X-ORIGINAL-URL:https://www.ceam.org.uy
X-WR-CALDESC:Eventos para CEAM
BEGIN:VEVENT
DTSTART;TZID=UTC-3:20171223T180000
DTEND;TZID=UTC-3:20171223T200000
DTSTAMP:20260421T011340
CREATED:20171213T233618Z
LAST-MODIFIED:20171218T155319Z
UID:1625-1514052000-1514059200@www.ceam.org.uy
SUMMARY:Concierto de Navidad - órgano
DESCRIPTION:Invitamos a un concierto de Navidad del Mtro. Prof. Ezequiel Larré\, Organista titular de la Congregación Evangélica Alemana de Montevideo; interpreta selecciones de Johann Sebastian Bach y Louis James Alfred Lefébure-Wély; estrenará fragmentos de Hans-Peter Bollinger e improvisará sobre motivos tradicionales navideños. \nSábado 23 de diciembre de 2017  ::  18.00 h \nJuan Manuel Blanes 1116 esquina Durazno – Entrada libre \n  \n     \nCompartirHaz clic para compartir en Facebook (Se abre en una ventana nueva)Haz clic para compartir en WhatsApp (Se abre en una ventana nueva)\n\n	\n
URL:https://www.ceam.org.uy/evento/concierto-de-navidad-organo/
CATEGORIES:Conciertos/Conferencias
END:VEVENT
END:VCALENDAR