BEGIN:VCALENDAR
VERSION:2.0
PRODID:-//CEAM - ECPv4.6.22//NONSGML v1.0//EN
CALSCALE:GREGORIAN
METHOD:PUBLISH
X-WR-CALNAME:CEAM
X-ORIGINAL-URL:https://www.ceam.org.uy
X-WR-CALDESC:Eventos para CEAM
BEGIN:VEVENT
DTSTART;TZID=UTC-3:20211221T180000
DTEND;TZID=UTC-3:20211221T190000
DTSTAMP:20260425T200654
CREATED:20211205T120911Z
LAST-MODIFIED:20211205T120911Z
UID:5648-1640109600-1640113200@www.ceam.org.uy
SUMMARY:Concierto de NAVIDAD - 21.12.2021 - 18h - Cristina García Banegas
DESCRIPTION:21 de diciembre 18.00 h  Concierto de Navidad\n\nFestival Internacional de Órgano\nCristina García Banegas e invitados: jóvenes cantantes egresados del Colegio Inglés: Natalia Menza\, Martina Santos\, Tiziana Vallone\, Manuel Pereyra – «NAVIDAD» – Entrada colaboración: $250 (o más\, a voluntad). \n\n  \nCompartirHaz clic para compartir en Facebook (Se abre en una ventana nueva)Haz clic para compartir en WhatsApp (Se abre en una ventana nueva)\n\n	\n
URL:https://www.ceam.org.uy/evento/concierto-de-navidad-21-12-2021-18h-cristina-garcia-banegas/
CATEGORIES:Conciertos/Conferencias
END:VEVENT
END:VCALENDAR