BEGIN:VCALENDAR
VERSION:2.0
PRODID:-//CEAM - ECPv4.6.22//NONSGML v1.0//EN
CALSCALE:GREGORIAN
METHOD:PUBLISH
X-WR-CALNAME:CEAM
X-ORIGINAL-URL:https://www.ceam.org.uy
X-WR-CALDESC:Eventos para CEAM
BEGIN:VEVENT
DTSTART;TZID=UTC-3:20221120T180000
DTEND;TZID=UTC-3:20221120T200000
DTSTAMP:20260425T141025
CREATED:20221111T145808Z
LAST-MODIFIED:20221114T133929Z
UID:6190-1668967200-1668974400@www.ceam.org.uy
SUMMARY:CONCIERTO DE PRIMAVERA EN LA CEAM - Domingo 20.11. - 18 h
DESCRIPTION: \n \nConcierto de Primavera de la Congregación Evangélica Alemana de Montevideo para el domingo 20 de noviembre a las 18 h en Juan Manuel Blanes 1116. \nSerá un concierto de Cuerdas tanto vocales como de instrumentos\, aunque el coro será complementado con cornos. \nEs así que les presentamos un doble programa con el Coro Femenino Tárraco Y con el Cuarteto Aramis.  \nEl año pasado nos deslumbraron y esta vez será con obras de Ludwig van  Beethoven y Johannes Brahms.\nEs un espectáculo para no perdérselo. \nSe agradece una colaboración de 150 $ \nLOS ESPERAMOS GUSTOSAMENTE \nCompartirHaz clic para compartir en Facebook (Se abre en una ventana nueva)Haz clic para compartir en WhatsApp (Se abre en una ventana nueva)\n\n	\n
URL:https://www.ceam.org.uy/evento/concierto-coral-tarraco-19-h/
CATEGORIES:Conciertos/Conferencias
END:VEVENT
END:VCALENDAR