BEGIN:VCALENDAR
VERSION:2.0
PRODID:-//CEAM - ECPv4.6.22//NONSGML v1.0//EN
CALSCALE:GREGORIAN
METHOD:PUBLISH
X-WR-CALNAME:CEAM
X-ORIGINAL-URL:https://www.ceam.org.uy
X-WR-CALDESC:Eventos para CEAM
BEGIN:VEVENT
DTSTART;TZID=UTC-3:20230819T190000
DTEND;TZID=UTC-3:20230819T203000
DTSTAMP:20260424T035633
CREATED:20230803T153139Z
LAST-MODIFIED:20230814T172820Z
UID:7025-1692471600-1692477000@www.ceam.org.uy
SUMMARY:CONCIERTO LIRICO CON PATRICIA CURZIO EN LA CEAM
DESCRIPTION:Sábado 19 de agosto\, 19.00 h – Concierto con Patricia Curzio\, soprano\, obras de Wagner\, Reflexión P. Dr. Jerónimo Granados\n«WAGNER\, LA CRISÁLIDA» \n \nPATRICIA CURZIO presenta “Wagner\, La Crisálida”\n“Wagner\, La Crisálida\,” es el nuevo Ciclo de Conciertos para soprano y piano de la\ncantante Patricia Curzio\, quién siguiendo la línea purista del formato básico de la\nOpera\, el concierto para cantante y piano\, encuentra su punto culminante de dicho\ncamino interpretativo en la obra de Richard Wagner. Un compositor que en pleno\nRomanticismo concibe el drama musical en su máxima pureza\, la conjunción de todas\nlas artes en la magnificencia de una sola Opera. Richard Wagner es el músico que\npersiguió el concepto de pureza musical y artística como objetivo único de todo su\ntrabajo musical\, artista polémico como pocos en su tiempo y hasta la actualidad\,\ndesafía las bases clásicas de la composición abriendo las puertas a la música\ncontemporánea\, donde luego Schönberg\, Stravinsky y tantos otros compositores\ncontemporáneos encontrarían un camino a seguir. Para el cantante lirico llegar a\ncantar Wagner es una culminación en su búsqueda de caudal vocal\, extensión de\nregistro\, resistencia física\, resistencia emocional\, comprensión musical y fonética\nademás de la interpretación de las arias. El cantante que aborde este repertorio debe\nrecorrer un largo tránsito de compositores clásicos\, lieder alemán y los compositores\nveristas\, en especial el repertorio verdiano para preparar su instrumento para tamaño\ndesafío. En este concierto la cantante Patricia Curzio recorre las arias de Óperas como\n“Las Valkirias”\, “Tristan e Isolda”\, “Tannhausser”\, “Sigfrido”\, entre otros grandes títulos\nde diferentes períodos compositivos del emblemático y polémico compositor alemán.\nAcompaña al piano el maestro Ezequiel Larré.\nPrograma\n– “Jo ho hoe!” ( Der fliegende Holländer)\n– “Dich\, teure Halle” (Tannhäuser)\n– “Der Männer Sippe” (Die Walküre)\n– “Ho jo to ho!” (Die Walküre)\n– “Einsam in trüben Tagen (Lohengrin)\n– “Sonnenhell leuchtet” (Siegfried)\n-“Liebestod”- (Tristan e Isolda)\nSoprano: Patricia Curzio\nPiano: Ezequiel Larré \nCompartirHaz clic para compartir en Facebook (Se abre en una ventana nueva)Haz clic para compartir en WhatsApp (Se abre en una ventana nueva)\n\n	\n
URL:https://www.ceam.org.uy/evento/concierto-con-patricia-curzio-en-la-ceam/
CATEGORIES:Conciertos/Conferencias
END:VEVENT
END:VCALENDAR