BEGIN:VCALENDAR
VERSION:2.0
PRODID:-//CEAM - ECPv4.6.22//NONSGML v1.0//EN
CALSCALE:GREGORIAN
METHOD:PUBLISH
X-WR-CALNAME:CEAM
X-ORIGINAL-URL:https://www.ceam.org.uy
X-WR-CALDESC:Eventos para CEAM
BEGIN:VEVENT
DTSTART;TZID=UTC-3:20211127T200000
DTEND;TZID=UTC-3:20211127T210000
DTSTAMP:20260425T214851
CREATED:20211205T120244Z
LAST-MODIFIED:20211205T120244Z
UID:5641-1638043200-1638046800@www.ceam.org.uy
SUMMARY:Concierto - 27.11.
DESCRIPTION: \nCompartirHaz clic para compartir en Facebook (Se abre en una ventana nueva)Haz clic para compartir en WhatsApp (Se abre en una ventana nueva)\n\n	\n
URL:https://www.ceam.org.uy/evento/concierto-27-11/
CATEGORIES:Conciertos/Conferencias
END:VEVENT
END:VCALENDAR