BEGIN:VCALENDAR
VERSION:2.0
PRODID:-//CEAM - ECPv4.6.22//NONSGML v1.0//EN
CALSCALE:GREGORIAN
METHOD:PUBLISH
X-WR-CALNAME:CEAM
X-ORIGINAL-URL:https://www.ceam.org.uy
X-WR-CALDESC:Eventos para CEAM
BEGIN:VEVENT
DTSTART;TZID=UTC-3:20211218T180000
DTEND;TZID=UTC-3:20211218T190000
DTSTAMP:20260425T180649
CREATED:20211205T115820Z
LAST-MODIFIED:20211205T115820Z
UID:5635-1639850400-1639854000@www.ceam.org.uy
SUMMARY:Concierto - 18.12.2021 - 18h - Cine mudo con improvisación al órgano
DESCRIPTION:18 de diciembre 18.00 h – Matías Hernán Sagreras (Buenos Aires – Argentina) \nFestival Internacional de Órgano\n\nCINE MUDO ACOMPAÑADO DE IMPROVISACIÓN AL ÓRGANO\n \n– colaboración sugerida 250 pesos o más a voluntad \nCompartirHaz clic para compartir en Facebook (Se abre en una ventana nueva)Haz clic para compartir en WhatsApp (Se abre en una ventana nueva)\n\n	\n
URL:https://www.ceam.org.uy/evento/concierto-18-12-2021-18h-cine-mudo-con-improvisacion-al-organo/
CATEGORIES:Conciertos/Conferencias
END:VEVENT
END:VCALENDAR