BEGIN:VCALENDAR
VERSION:2.0
PRODID:-//CEAM - ECPv4.6.22//NONSGML v1.0//EN
CALSCALE:GREGORIAN
METHOD:PUBLISH
X-WR-CALNAME:CEAM
X-ORIGINAL-URL:https://www.ceam.org.uy
X-WR-CALDESC:Eventos para CEAM
BEGIN:VEVENT
DTSTART;TZID=UTC-3:20200404T160000
DTEND;TZID=UTC-3:20200404T190000
DTSTAMP:20260424T001854
CREATED:20200229T231359Z
LAST-MODIFIED:20200314T160339Z
UID:4120-1586016000-1586026800@www.ceam.org.uy
SUMMARY:Clases de Confirmación-REUNIONES CANCELADAS HASTA NUEVO AVISO
DESCRIPTION:Clases de Confirmación \nDebido a la emergencia sanitaria por coronavirus\, la Comisión Directiva de la CEAM y el Pastor de nuestra iglesia decidieron cancelar a partir del 14 de marzo de 2020 todos los eventos (cultos\, conciertos\, otros eventos culturales\, reuniones de señoras y de jóvenes\, etc. etc.) hasta nuevo aviso. En un principio hasta Pascuas. \n—————————————————– \nAufgrund des bestehenden Gesundheitsnotfalls wegen Coronavirus haben der Gemeindevorstand und Pastor Granados ab Samstag\, 14. März 2020\, sämtliche Veranstaltungen in unserer Kirche (Gottesdienste\, Konzerte\, sonstige kulturelle Veranstaltungen\, Frauentreffen und Treffen der Jugendlichen usw. usw.) bis auf weiteres abgesagt. Voraussictlich  bis Ostern. \nCompartirHaz clic para compartir en Facebook (Se abre en una ventana nueva)Haz clic para compartir en WhatsApp (Se abre en una ventana nueva)\n\n	\n
URL:https://www.ceam.org.uy/evento/clases-de-confirmacion-3/
CATEGORIES:Niños-Jóvenes-Confirmandos
END:VEVENT
END:VCALENDAR