BEGIN:VCALENDAR
VERSION:2.0
PRODID:-//CEAM - ECPv4.6.22//NONSGML v1.0//EN
CALSCALE:GREGORIAN
METHOD:PUBLISH
X-WR-CALNAME:CEAM
X-ORIGINAL-URL:https://www.ceam.org.uy
X-WR-CALDESC:Eventos para CEAM
BEGIN:VEVENT
DTSTART;TZID=UTC-3:20200731T173000
DTEND;TZID=UTC-3:20200731T190000
DTSTAMP:20260424T063817
CREATED:20201007T191805Z
LAST-MODIFIED:20201007T191805Z
UID:4557-1596216600-1596222000@www.ceam.org.uy
SUMMARY:CLASES DE CONFIRMACION
DESCRIPTION:Curso virtual de confirmación \nID de reunión: 711 8748 7187\nContraseña: 9ytWek\nCompartirHaz clic para compartir en Facebook (Se abre en una ventana nueva)Haz clic para compartir en WhatsApp (Se abre en una ventana nueva)\n\n	\n
URL:https://www.ceam.org.uy/evento/clases-de-confirmacion-2/
CATEGORIES:Niños-Jóvenes-Confirmandos
END:VEVENT
END:VCALENDAR