BEGIN:VCALENDAR
VERSION:2.0
PRODID:-//CEAM - ECPv4.6.22//NONSGML v1.0//EN
CALSCALE:GREGORIAN
METHOD:PUBLISH
X-WR-CALNAME:CEAM
X-ORIGINAL-URL:https://www.ceam.org.uy
X-WR-CALDESC:Eventos para CEAM
BEGIN:VEVENT
DTSTART;VALUE=DATE:20170627
DTEND;VALUE=DATE:20170628
DTSTAMP:20260422T163230
CREATED:20170607T195426Z
LAST-MODIFIED:20170607T225925Z
UID:814-1498521600-1498607999@www.ceam.org.uy
SUMMARY:SE SUSPENDEN Clases de catequesis - Carrasco
DESCRIPTION:EN ESTA SEMANA NO HAY CLASES DE CATEQUESIS EN EL COLEGIO ALEMÁN – NI EN CARRASCO NI EN POCITOS. \nEL PASTOR SE ENCUENTRA DE VIAJE. \nCompartirHaz clic para compartir en Facebook (Se abre en una ventana nueva)Haz clic para compartir en WhatsApp (Se abre en una ventana nueva)\n\n	\n
URL:https://www.ceam.org.uy/evento/clases-de-catquesis-en-el-colegio-aleman-carrasco/
END:VEVENT
END:VCALENDAR