BEGIN:VCALENDAR
VERSION:2.0
PRODID:-//CEAM - ECPv4.6.22//NONSGML v1.0//EN
CALSCALE:GREGORIAN
METHOD:PUBLISH
X-WR-CALNAME:CEAM
X-ORIGINAL-URL:https://www.ceam.org.uy
X-WR-CALDESC:Eventos para CEAM
BEGIN:VEVENT
DTSTART;TZID=UTC-3:20170726T130000
DTEND;TZID=UTC-3:20170726T134000
DTSTAMP:20260421T163403
CREATED:20170724T202319Z
LAST-MODIFIED:20170724T202319Z
UID:1023-1501074000-1501076400@www.ceam.org.uy
SUMMARY:Clases de Catequesis en el Colegio Alemán - Pocitos
DESCRIPTION:CompartirHaz clic para compartir en Facebook (Se abre en una ventana nueva)Haz clic para compartir en WhatsApp (Se abre en una ventana nueva)\n\n	\n
URL:https://www.ceam.org.uy/evento/clases-de-catequesis-en-el-colegio-aleman-pocitos-7/
END:VEVENT
END:VCALENDAR