BEGIN:VCALENDAR
VERSION:2.0
PRODID:-//CEAM - ECPv4.6.22//NONSGML v1.0//EN
CALSCALE:GREGORIAN
METHOD:PUBLISH
X-WR-CALNAME:CEAM
X-ORIGINAL-URL:https://www.ceam.org.uy
X-WR-CALDESC:Eventos para CEAM
BEGIN:VEVENT
DTSTART;VALUE=DATE:20170628
DTEND;VALUE=DATE:20170629
DTSTAMP:20260422T125503
CREATED:20170607T195535Z
LAST-MODIFIED:20170607T230007Z
UID:816-1498608000-1498694399@www.ceam.org.uy
SUMMARY:SE SUSPENDEN Clases de catequesis - Pocitos
DESCRIPTION:EN ESTA SEMANA NO HAY CLASES DE CATEQUESIS EN EL COLEGIO ALEMÁN – NI EN CARRASCO NI EN POCITOS. \nEL PASTOR SE ENCUENTRA DE VIAJE. \nCompartirHaz clic para compartir en Facebook (Se abre en una ventana nueva)Haz clic para compartir en WhatsApp (Se abre en una ventana nueva)\n\n	\n
URL:https://www.ceam.org.uy/evento/clases-de-catequesis-en-el-colegio-aleman-pocitos-4/
END:VEVENT
END:VCALENDAR