BEGIN:VCALENDAR
VERSION:2.0
PRODID:-//CEAM - ECPv4.6.22//NONSGML v1.0//EN
CALSCALE:GREGORIAN
METHOD:PUBLISH
X-WR-CALNAME:CEAM
X-ORIGINAL-URL:https://www.ceam.org.uy
X-WR-CALDESC:Eventos para CEAM
BEGIN:VEVENT
DTSTART;TZID=UTC-3:20170809T143000
DTEND;TZID=UTC-3:20170809T151000
DTSTAMP:20260421T164117
CREATED:20170802T030044Z
LAST-MODIFIED:20170802T030044Z
UID:1068-1502289000-1502291400@www.ceam.org.uy
SUMMARY:Clases de Catequesis en el Colegio Alemán Pocitos 3ºa 6º Primaria con merienda compartida
DESCRIPTION:Catequesis en el Colegio Alemán Pocitos 3ºa 6º Primaria \nCon merienda compartida \nCompartirHaz clic para compartir en Facebook (Se abre en una ventana nueva)Haz clic para compartir en WhatsApp (Se abre en una ventana nueva)\n\n	\n
URL:https://www.ceam.org.uy/evento/clases-de-catequesis-en-el-colegio-aleman-pocitos-3oa-6o-primaria-con-merienda-compartida/
END:VEVENT
END:VCALENDAR