BEGIN:VCALENDAR
VERSION:2.0
PRODID:-//CEAM - ECPv4.6.22//NONSGML v1.0//EN
CALSCALE:GREGORIAN
METHOD:PUBLISH
X-WR-CALNAME:CEAM
X-ORIGINAL-URL:https://www.ceam.org.uy
X-WR-CALDESC:Eventos para CEAM
BEGIN:VEVENT
DTSTART;TZID=UTC-3:20170905T144000
DTEND;TZID=UTC-3:20170905T152000
DTSTAMP:20260421T232112
CREATED:20170902T225605Z
LAST-MODIFIED:20170903T222913Z
UID:1164-1504622400-1504624800@www.ceam.org.uy
SUMMARY:Clases de Catequesis Colegio Alemán (Carrasco) 3º-6º Primaria
DESCRIPTION:Hoy con MERIENDA COMPARTIDA. \nCompartirHaz clic para compartir en Facebook (Se abre en una ventana nueva)Haz clic para compartir en WhatsApp (Se abre en una ventana nueva)\n\n	\n
URL:https://www.ceam.org.uy/evento/clases-de-catequesis-en-el-colegio-aleman-pocitos-3oa-6o-primaria-con-merienda-compartida-2/
END:VEVENT
END:VCALENDAR