BEGIN:VCALENDAR
VERSION:2.0
PRODID:-//CEAM - ECPv4.6.22//NONSGML v1.0//EN
CALSCALE:GREGORIAN
METHOD:PUBLISH
X-WR-CALNAME:CEAM
X-ORIGINAL-URL:https://www.ceam.org.uy
X-WR-CALDESC:Eventos para CEAM
BEGIN:VEVENT
DTSTART;TZID=UTC-3:20170905T131000
DTEND;TZID=UTC-3:20170905T135000
DTSTAMP:20260421T234337
CREATED:20170902T225649Z
LAST-MODIFIED:20170903T222848Z
UID:1166-1504617000-1504619400@www.ceam.org.uy
SUMMARY:Clases de Catequesis Colegio Alemán (Carrasco) 1º-2º Primaria
DESCRIPTION:Hoy con MERIENDA COMPARTIDA. \nCompartirHaz clic para compartir en Facebook (Se abre en una ventana nueva)Haz clic para compartir en WhatsApp (Se abre en una ventana nueva)\n\n	\n
URL:https://www.ceam.org.uy/evento/clases-de-catequesis-en-el-colegio-aleman-pocitos-1oa-2o-primaria-con-merienda-compartida/
END:VEVENT
END:VCALENDAR