BEGIN:VCALENDAR
VERSION:2.0
PRODID:-//CEAM - ECPv4.6.22//NONSGML v1.0//EN
CALSCALE:GREGORIAN
METHOD:PUBLISH
X-WR-CALNAME:CEAM
X-ORIGINAL-URL:https://www.ceam.org.uy
X-WR-CALDESC:Eventos para CEAM
BEGIN:VEVENT
DTSTART;TZID=UTC-3:20170801T144000
DTEND;TZID=UTC-3:20170801T152000
DTSTAMP:20260421T123639
CREATED:20170731T235706Z
LAST-MODIFIED:20170801T032944Z
UID:1043-1501598400-1501600800@www.ceam.org.uy
SUMMARY:NO hay Clases de catequesis en el Colegio Alemán - Carrasco - 3º a 6º Primaria
DESCRIPTION:CompartirHaz clic para compartir en Facebook (Se abre en una ventana nueva)Haz clic para compartir en WhatsApp (Se abre en una ventana nueva)\n\n	\n
URL:https://www.ceam.org.uy/evento/clases-de-catequesis-en-el-colegio-aleman-carrasco-8/
END:VEVENT
END:VCALENDAR