BEGIN:VCALENDAR
VERSION:2.0
PRODID:-//CEAM - ECPv4.6.22//NONSGML v1.0//EN
CALSCALE:GREGORIAN
METHOD:PUBLISH
X-WR-CALNAME:CEAM
X-ORIGINAL-URL:https://www.ceam.org.uy
X-WR-CALDESC:Eventos para CEAM
BEGIN:VEVENT
DTSTART;TZID=UTC-3:20170808T131000
DTEND;TZID=UTC-3:20170808T135000
DTSTAMP:20260422T035442
CREATED:20170802T025639Z
LAST-MODIFIED:20170803T030857Z
UID:1062-1502197800-1502200200@www.ceam.org.uy
SUMMARY:Clases de catequesis en el Colegio Alemán - Carrasco 1º+2º Primaria con merienda compartida
DESCRIPTION:  \nCatequesis en el Colegio Alemán Carrasco 1º+2º Primaria \nCon merienda compartida \nCompartirHaz clic para compartir en Facebook (Se abre en una ventana nueva)Haz clic para compartir en WhatsApp (Se abre en una ventana nueva)\n\n	\n
URL:https://www.ceam.org.uy/evento/clases-de-catequesis-en-el-colegio-aleman-carrasco-1o-2o-primaria-con-merienda/
END:VEVENT
END:VCALENDAR