BEGIN:VCALENDAR
VERSION:2.0
PRODID:-//CEAM - ECPv4.6.22//NONSGML v1.0//EN
CALSCALE:GREGORIAN
METHOD:PUBLISH
X-WR-CALNAME:CEAM
X-ORIGINAL-URL:https://www.ceam.org.uy
X-WR-CALDESC:Eventos para CEAM
BEGIN:VEVENT
DTSTART;TZID=UTC-3:20240913T090000
DTEND;TZID=UTC-3:20240913T130000
DTSTAMP:20260422T013008
CREATED:20240911T230020Z
LAST-MODIFIED:20240911T230020Z
UID:9073-1726218000-1726232400@www.ceam.org.uy
SUMMARY:CICLO DE CHARLAS - EN PUNTA DEL ESTE\, MUNICIPIO
DESCRIPTION: \nHABLEMOS DE APORTES PARA EL CAMBIO\nMUNICIPIO DE PUNTA DEL ESTE\, 13 DE SETIEMBRE DE 09.00 A 13.00 H \nCompartirHaz clic para compartir en Facebook (Se abre en una ventana nueva)Haz clic para compartir en WhatsApp (Se abre en una ventana nueva)\n\n	\n
URL:https://www.ceam.org.uy/evento/ciclo-de-charlas-en-punta-del-este-municipio/
CATEGORIES:Charlas/Estudios Bíblicos
END:VEVENT
END:VCALENDAR