BEGIN:VCALENDAR
VERSION:2.0
PRODID:-//CEAM - ECPv4.6.22//NONSGML v1.0//EN
CALSCALE:GREGORIAN
METHOD:PUBLISH
X-WR-CALNAME:CEAM
X-ORIGINAL-URL:https://www.ceam.org.uy
X-WR-CALDESC:Eventos para CEAM
BEGIN:VEVENT
DTSTART;TZID=UTC-3:20171222T110000
DTEND;TZID=UTC-3:20171222T120000
DTSTAMP:20260421T045444
CREATED:20171205T022954Z
LAST-MODIFIED:20171218T155452Z
UID:1610-1513940400-1513944000@www.ceam.org.uy
SUMMARY:Celebración Navideña /Weihnachtsandacht - Atlántida
DESCRIPTION:El Pastor Granados invita a un culto navideño en Atlántida que se celebrará en la Parroquia Sagrado Corazón\, Calle Roger Balet esq. Av. Artigas. \n \nCompartirHaz clic para compartir en Facebook (Se abre en una ventana nueva)Haz clic para compartir en WhatsApp (Se abre en una ventana nueva)\n\n	\n
URL:https://www.ceam.org.uy/evento/celebracion-navidena-weihnachtsandacht-atlantida/
CATEGORIES:Cultos
END:VEVENT
END:VCALENDAR