BEGIN:VCALENDAR
VERSION:2.0
PRODID:-//CEAM - ECPv4.6.22//NONSGML v1.0//EN
CALSCALE:GREGORIAN
METHOD:PUBLISH
X-WR-CALNAME:CEAM
X-ORIGINAL-URL:https://www.ceam.org.uy
X-WR-CALDESC:Eventos para CEAM
BEGIN:VEVENT
DTSTART;TZID=UTC-3:20170802T130000
DTEND;TZID=UTC-3:20170802T134000
DTSTAMP:20260421T163435
CREATED:20170711T222346Z
LAST-MODIFIED:20170801T000114Z
UID:917-1501678800-1501681200@www.ceam.org.uy
SUMMARY:Clases de catequesis en el Colegio Alemán - Pocitos - 1º y 2º Primaria
DESCRIPTION:Miércoles (Pocitos) \n1º y 2º año de Primaria: 13.00 a 13.40 h \n3º a 6º año de Primaria: 14.30 a 15.10 h \nCompartirHaz clic para compartir en Facebook (Se abre en una ventana nueva)Haz clic para compartir en WhatsApp (Se abre en una ventana nueva)\n\n	\n
URL:https://www.ceam.org.uy/evento/catequesis-para-ninos-en-el-colegio-aleman-pocitos/
END:VEVENT
END:VCALENDAR