BEGIN:VCALENDAR
VERSION:2.0
PRODID:-//CEAM - ECPv4.6.22//NONSGML v1.0//EN
CALSCALE:GREGORIAN
METHOD:PUBLISH
X-WR-CALNAME:CEAM
X-ORIGINAL-URL:https://www.ceam.org.uy
X-WR-CALDESC:Eventos para CEAM
BEGIN:VEVENT
DTSTART;VALUE=DATE:20170607
DTEND;VALUE=DATE:20170608
DTSTAMP:20260422T044532
CREATED:20170607T173323Z
LAST-MODIFIED:20170607T225813Z
UID:782-1496793600-1496879999@www.ceam.org.uy
SUMMARY:SE SUSPENDEN Clases de Catequesis - Pocitos
DESCRIPTION:EL 7.6. NO HAY CLASES DE CATEQUESIS EN EL COLEGIO ALEMAN. \nCompartirHaz clic para compartir en Facebook (Se abre en una ventana nueva)Haz clic para compartir en WhatsApp (Se abre en una ventana nueva)\n\n	\n
URL:https://www.ceam.org.uy/evento/catequesis-p-ninos-en-el-colegio-aleman-pocitos-10/
END:VEVENT
END:VCALENDAR