BEGIN:VCALENDAR
VERSION:2.0
PRODID:-//CEAM - ECPv4.6.22//NONSGML v1.0//EN
CALSCALE:GREGORIAN
METHOD:PUBLISH
X-WR-CALNAME:CEAM
X-ORIGINAL-URL:https://www.ceam.org.uy
X-WR-CALDESC:Eventos para CEAM
BEGIN:VEVENT
DTSTART;TZID=UTC-3:20170606T144000
DTEND;TZID=UTC-3:20170606T152000
DTSTAMP:20260422T003632
CREATED:20170607T173216Z
LAST-MODIFIED:20170607T173216Z
UID:780-1496760000-1496762400@www.ceam.org.uy
SUMMARY:Catequesis p. niños en el Colegio Alemán - Carrasco
DESCRIPTION:CompartirHaz clic para compartir en Facebook (Se abre en una ventana nueva)Haz clic para compartir en WhatsApp (Se abre en una ventana nueva)\n\n	\n
URL:https://www.ceam.org.uy/evento/catequesis-p-ninos-en-el-colegio-aleman-carrasco-10/
END:VEVENT
END:VCALENDAR