BEGIN:VCALENDAR
VERSION:2.0
PRODID:-//CEAM - ECPv4.6.22//NONSGML v1.0//EN
CALSCALE:GREGORIAN
METHOD:PUBLISH
X-WR-CALNAME:CEAM
X-ORIGINAL-URL:https://www.ceam.org.uy
X-WR-CALDESC:Eventos para CEAM
BEGIN:VEVENT
DTSTART;TZID=UTC-3:20170829T131000
DTEND;TZID=UTC-3:20170829T135000
DTSTAMP:20260422T112503
CREATED:20170803T025945Z
LAST-MODIFIED:20170803T025945Z
UID:1122-1504012200-1504014600@www.ceam.org.uy
SUMMARY:Catequesis en el Colegio Alemán Carrasco 1º+2º Primaria
DESCRIPTION:Catequesis en el Colegio Alemán Carrasco 1º+2º Primaria \nCompartirHaz clic para compartir en Facebook (Se abre en una ventana nueva)Haz clic para compartir en WhatsApp (Se abre en una ventana nueva)\n\n	\n
URL:https://www.ceam.org.uy/evento/catequesis-en-el-colegio-aleman-carrasco-1o2o-primaria-3/
END:VEVENT
END:VCALENDAR