BEGIN:VCALENDAR
VERSION:2.0
PRODID:-//CEAM - ECPv4.6.22//NONSGML v1.0//EN
CALSCALE:GREGORIAN
METHOD:PUBLISH
X-WR-CALNAME:CEAM
X-ORIGINAL-URL:https://www.ceam.org.uy
X-WR-CALDESC:Eventos para CEAM
BEGIN:VEVENT
DTSTART;TZID=UTC-3:20170906T130000
DTEND;TZID=UTC-3:20170906T134000
DTSTAMP:20260422T024401
CREATED:20170903T222033Z
LAST-MODIFIED:20170903T222702Z
UID:1168-1504702800-1504705200@www.ceam.org.uy
SUMMARY:Catequesis Colegio Alemán 1º-2º Primaria (Pocitos)
DESCRIPTION:Hoy con MERIENDA COMPARTIDA. \nCompartirHaz clic para compartir en Facebook (Se abre en una ventana nueva)Haz clic para compartir en WhatsApp (Se abre en una ventana nueva)\n\n	\n
URL:https://www.ceam.org.uy/evento/catequesis-en-el-colegio-aleman-1o-2o-primaria-pocitos-con-merienda-compartida/
END:VEVENT
END:VCALENDAR