BEGIN:VCALENDAR
VERSION:2.0
PRODID:-//CEAM - ECPv4.6.22//NONSGML v1.0//EN
CALSCALE:GREGORIAN
METHOD:PUBLISH
X-WR-CALNAME:CEAM
X-ORIGINAL-URL:https://www.ceam.org.uy
X-WR-CALDESC:Eventos para CEAM
BEGIN:VEVENT
DTSTART;VALUE=DATE:20190813
DTEND;VALUE=DATE:20190814
DTSTAMP:20260424T184954
CREATED:20190812T201646Z
LAST-MODIFIED:20190812T201646Z
UID:3549-1565654400-1565740799@www.ceam.org.uy
SUMMARY:CANCELADO Culto en el hogar de la OCSA
DESCRIPTION:El culto previsto para el día de hoy fue cancelado por fuerza mayor hasta nuevo aviso. \nCompartirHaz clic para compartir en Facebook (Se abre en una ventana nueva)Haz clic para compartir en WhatsApp (Se abre en una ventana nueva)\n\n	\n
URL:https://www.ceam.org.uy/evento/cancelado-culto-en-el-hogar-de-la-ocsa/
CATEGORIES:Cultos
END:VEVENT
END:VCALENDAR