BEGIN:VCALENDAR
VERSION:2.0
PRODID:-//CEAM - ECPv4.6.22//NONSGML v1.0//EN
CALSCALE:GREGORIAN
METHOD:PUBLISH
X-WR-CALNAME:CEAM
X-ORIGINAL-URL:https://www.ceam.org.uy
X-WR-CALDESC:Eventos para CEAM
BEGIN:VEVENT
DTSTART;VALUE=DATE:20240309
DTEND;VALUE=DATE:20240310
DTSTAMP:20260422T232552
CREATED:20240226T162017Z
LAST-MODIFIED:20240226T162017Z
UID:7818-1709942400-1710028799@www.ceam.org.uy
SUMMARY:CADU Consejo Asesor Distrito Uruguay REUNIÓN en Montevideo
DESCRIPTION:El sábado 9 de marzo de 2024 se realizará en nuestras instalaciones en Montevideo la reunión del CADU con participantes de las congregaciones de Montevideo\, Paysandú y Nueva Helvecia. Comienza a las 09.00 h y es un evento de todo el día; con desayuno\, almuerzo y merienda. En caso de querer participar por favor anotarse. Se agradecen donaciones de comidas y bebidas. \nCompartirHaz clic para compartir en Facebook (Se abre en una ventana nueva)Haz clic para compartir en WhatsApp (Se abre en una ventana nueva)\n\n	\n
URL:https://www.ceam.org.uy/evento/cadu-consejo-asesor-distrito-uruguay-reunion-en-montevideo/
CATEGORIES:Conciertos/Conferencias
END:VEVENT
END:VCALENDAR