BEGIN:VCALENDAR
VERSION:2.0
PRODID:-//CEAM - ECPv4.6.22//NONSGML v1.0//EN
CALSCALE:GREGORIAN
METHOD:PUBLISH
X-WR-CALNAME:CEAM
X-ORIGINAL-URL:https://www.ceam.org.uy
X-WR-CALDESC:Eventos para CEAM
BEGIN:VEVENT
DTSTART;TZID=UTC-3:20221208T183000
DTEND;TZID=UTC-3:20221208T200000
DTSTAMP:20260425T102327
CREATED:20221126T084431Z
LAST-MODIFIED:20221126T085331Z
UID:6256-1670524200-1670529600@www.ceam.org.uy
SUMMARY:ASAMBLEA GENERAL ORDINARIA DE LA CEAM
DESCRIPTION:Estimados miembros de la Congregación: \nEl próximo 8 de diciembre tendrá lugar nuestra Asamblea General Ordinaria\, para la cual les adjuntamos la CONVOCATORIA (Juan Manuel Blanes esquina Durazno).\nSegún párrafo 9º de los estatutos la estamos anunciando debidamente con dos semanas de anticipación.\nCon mucho gusto los esperamos. \nSaludos cordiales\nLa Comisión Directiva de la CEAM\nEmb.(R) Jorge Meyer Long\, Presidente\nIngrid Jahn\, Secretario \n \nCompartirHaz clic para compartir en Facebook (Se abre en una ventana nueva)Haz clic para compartir en WhatsApp (Se abre en una ventana nueva)\n\n	\n
URL:https://www.ceam.org.uy/evento/asamblea-general-ordinaria-de-la-ceam-4/
CATEGORIES:CEAM-Directiva/Reuniones-Asambleas
END:VEVENT
END:VCALENDAR