BEGIN:VCALENDAR
VERSION:2.0
PRODID:-//CEAM - ECPv4.6.22//NONSGML v1.0//EN
CALSCALE:GREGORIAN
METHOD:PUBLISH
X-WR-CALNAME:CEAM
X-ORIGINAL-URL:https://www.ceam.org.uy
X-WR-CALDESC:Eventos para CEAM
BEGIN:VEVENT
DTSTART;TZID=UTC-3:20240616T113000
DTEND;TZID=UTC-3:20240616T123000
DTSTAMP:20260424T101258
CREATED:20240529T172056Z
LAST-MODIFIED:20240529T172056Z
UID:8248-1718537400-1718541000@www.ceam.org.uy
SUMMARY:ASAMBLEA EXTRAORDINARIA de la CEAM
DESCRIPTION: \nCompartirHaz clic para compartir en Facebook (Se abre en una ventana nueva)Haz clic para compartir en WhatsApp (Se abre en una ventana nueva)\n\n	\n
URL:https://www.ceam.org.uy/evento/asamblea-extraordinaria-de-la-ceam/
CATEGORIES:CEAM-Directiva/Reuniones-Asambleas
END:VEVENT
END:VCALENDAR