BEGIN:VCALENDAR
VERSION:2.0
PRODID:-//CEAM - ECPv4.6.22//NONSGML v1.0//EN
CALSCALE:GREGORIAN
METHOD:PUBLISH
X-WR-CALNAME:CEAM
X-ORIGINAL-URL:https://www.ceam.org.uy
X-WR-CALDESC:Eventos para CEAM
BEGIN:VEVENT
DTSTART;VALUE=DATE:20170708
DTEND;VALUE=DATE:20170710
DTSTAMP:20260421T125751
CREATED:20170607T202354Z
LAST-MODIFIED:20170722T232007Z
UID:832-1499472000-1499644799@www.ceam.org.uy
SUMMARY:Asamblea Distrital y Conferencia en Nueva Helvecia con culto el domingo
DESCRIPTION:El 8 y 9 de julio de 2017 tendrá lugar en las instalaciones de la Congregación Evangélica de Nueva Helvecia (Departamento de Colonia) la Asamblea del Distrito Uruguay y una conferencia sobre arte y teología a los 500 años de la Reforma Protestante\, el domingo Culto con Santa Cena. \nEl evento comienza el sábado 8 de julio a las 09.30 h y finaliza el domingo con un almuerzo. \nEl culto del domingo 9 de julio es a las 10.00 h en la Iglesia de Nueva Helvecia. \nSe invita a los miembros a acercarse y conocer otra congregación. Aquellos miembros que quieran participar del culto y del almuerzo el domingo\, por favor anotarse con la debida anticipación. \n       \nCompartirHaz clic para compartir en Facebook (Se abre en una ventana nueva)Haz clic para compartir en WhatsApp (Se abre en una ventana nueva)\n\n	\n
URL:https://www.ceam.org.uy/evento/asamblea-distrital-y-conferencia-en-nueva-helvecia-con-culto-2/
CATEGORIES:Otros
END:VEVENT
END:VCALENDAR