BEGIN:VCALENDAR
VERSION:2.0
PRODID:-//CEAM - ECPv4.6.22//NONSGML v1.0//EN
CALSCALE:GREGORIAN
METHOD:PUBLISH
X-WR-CALNAME:CEAM
X-ORIGINAL-URL:https://www.ceam.org.uy
X-WR-CALDESC:Eventos para CEAM
BEGIN:VEVENT
DTSTART;VALUE=DATE:20200619
DTEND;VALUE=DATE:20200620
DTSTAMP:20260424T113442
CREATED:20201007T193442Z
LAST-MODIFIED:20201022T145634Z
UID:4569-1592524800-1592611199@www.ceam.org.uy
SUMMARY:SALUDO DIA DE LOS ABUELOS/LAS ABUELAS
DESCRIPTION:Con todo el cariño y respeto que se merecen por conservar valores y unidas a las generaciones. Bendiciones \nCompartirHaz clic para compartir en Facebook (Se abre en una ventana nueva)Haz clic para compartir en WhatsApp (Se abre en una ventana nueva)\n\n	\n
URL:https://www.ceam.org.uy/evento/aludo-dia-de-los-abuelos-las-abuelas/
CATEGORIES:CEAM-Varios
END:VEVENT
END:VCALENDAR