BEGIN:VCALENDAR
VERSION:2.0
PRODID:-//CEAM - ECPv4.6.22//NONSGML v1.0//EN
CALSCALE:GREGORIAN
METHOD:PUBLISH
X-WR-CALNAME:CEAM
X-ORIGINAL-URL:https://www.ceam.org.uy
X-WR-CALDESC:Eventos para CEAM
BEGIN:VEVENT
DTSTART;TZID=UTC-3:20190824T093000
DTEND;TZID=UTC-3:20190824T113000
DTSTAMP:20260424T223432
CREATED:20190812T202306Z
LAST-MODIFIED:20190812T202306Z
UID:3560-1566639000-1566646200@www.ceam.org.uy
SUMMARY:9.30. h Asamblea Hogar Amanecer
DESCRIPTION:9.30. h\nAsamblea General Ordinaria de la Federación Hogar Amanecer \nCompartirHaz clic para compartir en Facebook (Se abre en una ventana nueva)Haz clic para compartir en WhatsApp (Se abre en una ventana nueva)\n\n	\n
URL:https://www.ceam.org.uy/evento/9-30-h-asamblea-hogar-amanecer/
CATEGORIES:Ecumenismo-Obras Ecuménicas
END:VEVENT
END:VCALENDAR