BEGIN:VCALENDAR
VERSION:2.0
PRODID:-//CEAM - ECPv4.6.22//NONSGML v1.0//EN
CALSCALE:GREGORIAN
METHOD:PUBLISH
X-WR-CALNAME:CEAM
X-ORIGINAL-URL:https://www.ceam.org.uy
X-WR-CALDESC:Eventos para CEAM
BEGIN:VEVENT
DTSTART;TZID=UTC-3:20191031T190000
DTEND;TZID=UTC-3:20191031T200000
DTSTAMP:20260424T162906
CREATED:20191026T222423Z
LAST-MODIFIED:20191026T222423Z
UID:3772-1572548400-1572552000@www.ceam.org.uy
SUMMARY:31.10.2019 :: 19.00 h :: Culto Dia de la Reforma en la Iglesia Metodista San Pablo
DESCRIPTION:El 31 de Octubre de 2019 a las 19.00 h se celebrará un culto por el Día de la Reforma Protestante en la Iglesia Metodista San Pablo\, Av. Garibaldi 2661. \n  \n \nCompartirHaz clic para compartir en Facebook (Se abre en una ventana nueva)Haz clic para compartir en WhatsApp (Se abre en una ventana nueva)\n\n	\n
URL:https://www.ceam.org.uy/evento/31-10-2019-19-00-h-culto-dia-de-la-reforma-en-la-iglesia-metodista-san-pablo/
CATEGORIES:Cultos
END:VEVENT
END:VCALENDAR