BEGIN:VCALENDAR
VERSION:2.0
PRODID:-//CEAM - ECPv4.6.22//NONSGML v1.0//EN
CALSCALE:GREGORIAN
METHOD:PUBLISH
X-WR-CALNAME:CEAM
X-ORIGINAL-URL:https://www.ceam.org.uy
X-WR-CALDESC:Eventos para CEAM
BEGIN:VEVENT
DTSTART;TZID=UTC-3:20190414T110000
DTEND;TZID=UTC-3:20190414T120000
DTSTAMP:20260421T134239
CREATED:20190311T164337Z
LAST-MODIFIED:20190311T164413Z
UID:3090-1555239600-1555243200@www.ceam.org.uy
SUMMARY:11.00 h :: Culto familiar con Escuelita Dominical\, manualidades para Pascua
DESCRIPTION:11.00 h\nCulto familiar en español con Escuelita Dominical\nEscuelita de Pascua para los niños y niñas \nDespedida del Pastor Schaar Berlín) \nGottesdienst in spanischer Sprache mit Kindergottesdienst\nOsternbasteln für unsere Kinder \nCompartirHaz clic para compartir en Facebook (Se abre en una ventana nueva)Haz clic para compartir en WhatsApp (Se abre en una ventana nueva)\n\n	\n
URL:https://www.ceam.org.uy/evento/3090/
CATEGORIES:Cultos,Niños-Jóvenes-Confirmandos
END:VEVENT
END:VCALENDAR