BEGIN:VCALENDAR
VERSION:2.0
PRODID:-//CEAM - ECPv4.6.22//NONSGML v1.0//EN
CALSCALE:GREGORIAN
METHOD:PUBLISH
X-WR-CALNAME:CEAM
X-ORIGINAL-URL:https://www.ceam.org.uy
X-WR-CALDESC:Eventos para CEAM
BEGIN:VEVENT
DTSTART;TZID=UTC-3:20190327T201500
DTEND;TZID=UTC-3:20190327T210000
DTSTAMP:20260421T131756
CREATED:20190311T173152Z
LAST-MODIFIED:20190311T173152Z
UID:3140-1553717700-1553720400@www.ceam.org.uy
SUMMARY:20.15 h Ensayo del Coro Cantarsis
DESCRIPTION:20.15 h\nEnsayo del Coro Cantarsis\nDir. Andrés Mils \nCompartirHaz clic para compartir en Facebook (Se abre en una ventana nueva)Haz clic para compartir en WhatsApp (Se abre en una ventana nueva)\n\n	\n
URL:https://www.ceam.org.uy/evento/20-15-h-ensayo-del-coro-cantarsis-8/
CATEGORIES:Otros
END:VEVENT
END:VCALENDAR