BEGIN:VCALENDAR
VERSION:2.0
PRODID:-//CEAM - ECPv4.6.22//NONSGML v1.0//EN
CALSCALE:GREGORIAN
METHOD:PUBLISH
X-WR-CALNAME:CEAM
X-ORIGINAL-URL:https://www.ceam.org.uy
X-WR-CALDESC:Eventos para CEAM
BEGIN:VEVENT
DTSTART;TZID=UTC-3:20191021T200000
DTEND;TZID=UTC-3:20191021T213000
DTSTAMP:20260424T195458
CREATED:20191002T204032Z
LAST-MODIFIED:20191002T204032Z
UID:3677-1571688000-1571693400@www.ceam.org.uy
SUMMARY:20.00 h :: Ensayo del Coro Arcadia
DESCRIPTION:20.00 h \nEnsayo del Coro Arcadia \nDir. Maestro Gabriel González \nCompartirHaz clic para compartir en Facebook (Se abre en una ventana nueva)Haz clic para compartir en WhatsApp (Se abre en una ventana nueva)\n\n	\n
URL:https://www.ceam.org.uy/evento/20-00-h-ensayo-del-coro-arcadia-37/
CATEGORIES:Otros
END:VEVENT
END:VCALENDAR